BEGIN:VCALENDAR
VERSION:2.0
BEGIN:VEVENT
CATEGORIES:Category,Community Events,Category,Fine and Performing Arts,Category,Student Events,Location,Henderson Fine Arts Center,featured,Yes
DESCRIPTION:The group&rsquo;s seven voices deliver a high energy show that combines harmony, humor, and remarkable vocal percussion into a powerful style with unique personality. Noteworthy is Brigham Young University&rsquo;s premiere women&rsquo;s a cappella ensemble. Founded in 2003 by BYU alumni Esther Yoder, Noteworthy became an official BYU performing group in 2014. Admissions  General Public: $25  Buy Tickets Date November 2, 2024 Time 7:00 pm Location Henderson Fine Arts Center
DTSTAMP:20260423T092504
DTSTART:20241102T190000
DTEND:20241102T210000
LOCATION:Henderson Fine Arts Center
SUMMARY;LANGUAGE=en-us:BYU Vocal Point and Noteworthy
UID:a221a84d3fb2062172c7c49b366ec4ec@www.sanjuancollege.edu
END:VEVENT
END:VCALENDAR

