BEGIN:VCALENDAR
VERSION:2.0
BEGIN:VEVENT
CATEGORIES:Category,Art Gallery,Category,Community Events,Category,Fine and Performing Arts,Category,Student Events,Location,Henderson Fine Arts Center Gallery,featured,Yes
DESCRIPTION:The work of both artists will explore some dark themes; Huerta draws heavily from art history, pop culture, and his ethnic background to provide humorous commentary on serious societal matters while Hernandez focuses on a more personal approach by exploring connection with his late father. Closing Reception Friday, October 25, 2024 4 - 6 p.m. The Gallery is open during the reception. Gallery Hours The Henderson Fine Arts Center Art Gallery is open Monday through Friday, from 10 a.m. to 5 p.m. and during most events in the Henderson Performance Hall.
DTSTAMP:20260423T092321
DTSTART:20241004T160000
DTEND:20241025T180000
LOCATION:Henderson Fine Arts Center Gallery
SUMMARY;LANGUAGE=en-us:Memento Oscuro - Curated by Julie Napientek and Eddy Rawlinson
UID:70cc8c97fc6efae50aab189972ec94d1@www.sanjuancollege.edu
END:VEVENT
END:VCALENDAR

