BEGIN:VCALENDAR
VERSION:2.0
BEGIN:VEVENT
CATEGORIES:Category,Food for Thought,Category,Student Events,Location,Sun's Lounge outside the TrailBlaze Cupboard,featured,Yes
DESCRIPTION:Comfort Foods - Part 1 Food for Thought highlights a fruit or vegetable as our Food of the Month!&nbsp; The first episode, we are showcasing beans. Come by the Sun&rsquo;s Lounge and explore fun nutritional facts, taste delicious sample recipes, and pick up fresh produce to take home. It&rsquo;s a great way to try something new and add healthy foods to your routine. Date January 28, 2026 Time 11:00 a.m. - 12:30 p.m. Location Sun's Lounge outside the TrailBlaze Cupboard
DTSTAMP:20260423T122935
DTSTART:20260128T110000
DTEND:20260128T123000
LOCATION:Sun's Lounge outside the TrailBlaze Cupboard
SUMMARY;LANGUAGE=en-us:Food for Thought - Food of the Month
UID:564af5b3caaafc4e9edc21dbfd2ad57f@www.sanjuancollege.edu
END:VEVENT
END:VCALENDAR

