BEGIN:VCALENDAR
VERSION:2.0
BEGIN:VEVENT
CATEGORIES:Category,Community Events,Category,Food for Thought,Category,Student Events,Location,Sun’s Lounge outside the TrailBlaze Cupboard
DESCRIPTION:Each month, Food for Thought highlights a fruit or vegetable as our Food of the Month! Come by to explore fun nutritional facts, taste delicious sample recipes, and pick up fresh produce to take home. It&rsquo;s a great way to try something new and add healthy foods to your routine. Date November 12, 2025 Time 11:00 a.m. - 12:30 p.m. Location Sun&rsquo;s Lounge outside the TrailBlaze Cupboard
DTSTAMP:20260423T030244
DTSTART:20251112T110000
DTEND:20251112T123000
LOCATION:Sun&rsquo;s Lounge outside the TrailBlaze Cupboard
SUMMARY;LANGUAGE=en-us:Food for Thought - Food of the Month
UID:3a3f855b9c136605161dfee97d74526e@www.sanjuancollege.edu
END:VEVENT
END:VCALENDAR

