BEGIN:VCALENDAR
VERSION:2.0
BEGIN:VEVENT
CATEGORIES:Category,Food for Thought,Category,Student Events,Location,Sun's Lounge
DESCRIPTION:The Christmas Holiday Food Distribution is an event that supports students and their families facing financial hardship during the holiday season by providing a bag of food items to make a holiday meal.&nbsp; Date December 15, 2025 Time 2:00 p.m. 4:00 p.m. Location Sun's Lounge
DTSTAMP:20260423T092055
DTSTART:20251215T140000
DTEND:20251215T160000
LOCATION:Sun's Lounge
SUMMARY;LANGUAGE=en-us:Food for Thought
UID:9342a098662f219c562055307c4d6564@www.sanjuancollege.edu
END:VEVENT
END:VCALENDAR

