BEGIN:VCALENDAR
VERSION:2.0
BEGIN:VEVENT
CATEGORIES:Category,Student Events,Location,Facebook,featured,Yes
DESCRIPTION:Get into the spooky spirit with our exclusive San Juan College Halloween stencils! Whether carving jack-o-lanterns for your porch, preparing for a night of trick-or-treating, or simply getting creative at home, our stencils will help you create pumpkins that glow with pride. Featuring our mascot, Blaze, and the official San Juan College logo, these stencils are a fun and unique way to showcase your SJC spirit. Perfect for students, alumni, staff, or community members, they&rsquo;ll turn your pumpkins into sun-sational masterpieces with a ghoulish twist. Once you've carved your pumpkins, we&rsquo;d love to see your creativity in action! Share your spooky creations with us in the comments or tag us on social media. Let&rsquo;s make this Halloween one to remember with San Juan College-themed jack-o-lanterns! San Juan College Halloween Stencils, and let the carving begin!
DTSTAMP:20260423T103557
DTSTART:20251001T080000
DTEND:20251031T170000
LOCATION:Facebook
SUMMARY;LANGUAGE=en-us:Get Spooky with San Juan College Halloween Stencils
UID:35f6ba99ea4004f83c4b73c859132697@www.sanjuancollege.edu
END:VEVENT
END:VCALENDAR

