BEGIN:VCALENDAR
VERSION:2.0
BEGIN:VEVENT
CATEGORIES:Category,Community Events,Category,Fine and Performing Arts,Category,Student Events,Location,Henderson Fine Arts Center,featured,Yes
DESCRIPTION:Calling all Photographers Begay will talk about his artistic practice, career path, and development in working as a professional photographer. The program is funded through the generous support of the Chicago Woodman Foundation. Rapheal Begay is a visual storyteller based in Ts&eacute;gh&aacute;hoodz&aacute;n&iacute; (Window Rock, Arizona). His work activates cultural landscape photography and oral storytelling traditions to document and celebrate the Din&eacute; way of life. His recent work, Vernacular Response, is a photographic series that represents everyday moments and diverse aspects of the Navajo Nation. In line with self-determination and visual sovereignty, it contributes to a never-ending Din&eacute; past, present, and future, and reflects the serendipitous nature found within the everyday; art as experience. Join us for this FREE event! Date October 15, 2024 Time 5:00 pm - 7:00 pm Location Henderson Fine Arts Center
DTSTAMP:20260423T103611
DTSTART:20241015T170000
DTEND:20241015T190000
LOCATION:Henderson Fine Arts Center
SUMMARY;LANGUAGE=en-us:New Mexico Museum of Art Master Class Series - Emerging Photographers
UID:132ec5ecedf092b76084774e272aebb4@www.sanjuancollege.edu
END:VEVENT
END:VCALENDAR

