BEGIN:VCALENDAR
VERSION:2.0
BEGIN:VEVENT
CATEGORIES:Category,Student Events,Location,Online
DESCRIPTION:Attend New Student Orientation In-Person! New Student Orientation is designed to introduce you to the SJC campus. It provides an overview of the many types of academic support and campus life activities available to you.&nbsp; Date &amp; Time: October 16, 2024 @ 9:30 amOctober 18, 2024 @ 10:00 amNovember 19, 2024 @ 9:00 amNovember 21, 2024 @ 10:00 am Location: Online Register here! Additional Questions? Contact the Student Resource Center (505) 566-3378 or resource@sanjuancollege.edu or orientation@sanjuancollege.edu&nbsp;
DTSTAMP:20260423T091940
DTSTART:20241016T093000
DTEND:20241016T223000
LOCATION:Online
SUMMARY;LANGUAGE=en-us:Online New Student Orientation
UID:c61039e1fcfb8625b98f4a79adb6bd43@www.sanjuancollege.edu
END:VEVENT
END:VCALENDAR

