BEGIN:VCALENDAR
VERSION:2.0
BEGIN:VEVENT
CATEGORIES:Category,Employee Events,Category,Student Events,Category,TRIO SSS,Location,Henderson Fine Arts Room 9008 and 9010
DESCRIPTION:Rep Your Alma Mater! Faculty and Staff, show us where you have been; wear the colors of your alma mater! Students show us where you plan to go! Wear the colors that represent your next DREAM SCHOOL! Don't miss out on:  Free Lunch Giveaways Speakers Door Prizes  Date &nbsp;November 12, 2025 Time 11:30 am - 1:00 pm Location Henderson Fine Arts Room 9008 and 9010
DTSTAMP:20260423T061818
DTSTART:20251112T113000
DTEND:20251112T130000
LOCATION:Henderson Fine Arts Room 9008 and 9010
SUMMARY;LANGUAGE=en-us:Be F1rst - Celebrate National First Generation Student Day!
UID:c88fb1c8c906f5cc9f74b3d63f57214e@www.sanjuancollege.edu
END:VEVENT
END:VCALENDAR

