BEGIN:VCALENDAR
VERSION:2.0
BEGIN:VEVENT
CATEGORIES:Category,Community Events,Category,Student Events,Location,SJC Learning Commons Plaza,featured,Yes
DESCRIPTION:Let's have a Spooktacular Time! SJC Clubs will be putting on games and activities for the community. Come explore the 25+ booths throughout the Carnival. Tickets will be for sale for 25&cent; each, games priced from 1 to 8 tickets. Proceeds from tickets sales will benefit SJC Clubs.  Costume Contest Candy and Treats Variety of Games  Date October 25, 2025 Time 12:00 pm - 5:00 pm Location SJC Learning Commons Plaza Weather permitting. In the event of moisture or strong winds the events will be CANCELED. Follow our Facebook for changes.
DTSTAMP:20260423T092341
DTSTART:20251025T120000
DTEND:20251025T170000
LOCATION:SJC Learning Commons Plaza
SUMMARY;LANGUAGE=en-us:Halloween Carnival
UID:e43bca1d3ac6fe8cb6a74e104c4538ed@www.sanjuancollege.edu
END:VEVENT
END:VCALENDAR

