BEGIN:VCALENDAR
VERSION:2.0
BEGIN:VEVENT
CATEGORIES:Category,Community Events,Category,Student Events,Location,Suns Room,featured,Yes
DESCRIPTION:Join us for a presentation on alcohol abuse awareness during Red Ribbon Week! We'll discuss the impact on families, statistics, and resources available to those in need.&nbsp; Date October 31, 2024 Time 8:30 am - 9:45 am Location Suns Room
DTSTAMP:20260423T091946
DTSTART:20241031T083000
DTEND:20241031T094500
LOCATION:Suns Room
SUMMARY;LANGUAGE=en-us:Alcohol Awareness Presentation
UID:67101474cdb923e7422a4d020e7d525a@www.sanjuancollege.edu
END:VEVENT
END:VCALENDAR

