BEGIN:VCALENDAR
VERSION:2.0
BEGIN:VEVENT
CATEGORIES:Category,Community Events,Category,Student Events,Location,Suns Room,featured,Yes
DESCRIPTION:The dangers of methamphetamine extend far beyond the individual user, affecting families, communities, and society as a whole. Awareness and education about these risks are crucial for prevention and intervention efforts. Treatment and support are essential for those struggling with addiction to reclaim their health and lives. Presenters:  Valerie K. Colin C. Analesia Y. Lila F. Alfreida P.  Date October 29, 2024 Time 8:30 am - 9:45 am Location Suns Room
DTSTAMP:20260423T161346
DTSTART:20241029T083000
DTEND:20241029T094500
LOCATION:Suns Room
SUMMARY;LANGUAGE=en-us:Meth=Death
UID:65c9374ae72c5a3de1880c172c0e5eee@www.sanjuancollege.edu
END:VEVENT
END:VCALENDAR

