BEGIN:VCALENDAR
VERSION:2.0
BEGIN:VEVENT
CATEGORIES:Category,Community Events,Category,Student Events,Location,Suns Room,featured,Yes
DESCRIPTION:Fake prescription pills are now easily available thorugh social media and e-commerce. These pills often contain fentanyl or methamphetamines which can be deadly. Many counterfeit pills are made up to look like prescription opioids such as oxycodone, hydrocodone, alprazolam. These can also look like stimulants such as Adderall.&nbsp; Date October 24, 2024 Time 8:30 am Location Suns Room
DTSTAMP:20260423T062434
DTSTART:20241024T083000
DTEND:20241024T103000
LOCATION:Suns Room
SUMMARY;LANGUAGE=en-us:One Pill Can Kill
UID:36438564890e049f6a6a1dd2aae7886d@www.sanjuancollege.edu
END:VEVENT
END:VCALENDAR

