BEGIN:VCALENDAR
VERSION:2.0
BEGIN:VEVENT
CATEGORIES:Category,Student Events,Location,Student Health Center,featured,Yes
DESCRIPTION:Join the San Juan College Student Health Center for Free Flu Vaccine For All Students (while supplies last). Dates January 28, 2026 Time 1:00 p.m. - 4:0.0 p.m. Location Student Health Center
DTSTAMP:20260423T000350
DTSTART:20260128T130000
DTEND:20260128T160000
LOCATION:Student Health Center
SUMMARY;LANGUAGE=en-us:Free Flu Vaccine For All Students
UID:ca98560e67fa860ff93b458b168eddaa@www.sanjuancollege.edu
END:VEVENT
END:VCALENDAR

