BEGIN:VCALENDAR
VERSION:2.0
BEGIN:VEVENT
CATEGORIES:Category,Career Center,Category,Student Events,Location,San Juan College School of Energy,featured,Yes
DESCRIPTION:Network with San Juan College's employer partners who host internships, service learning and apprentice students.&nbsp; Date November 16, 2024 Time 10:00 am - 11:00 am Location San Juan College School of Energy
DTSTAMP:20260423T061905
DTSTART:20241119T100000
DTEND:20241119T110000
LOCATION:San Juan College School of Energy
SUMMARY;LANGUAGE=en-us:Employer Partner Appreciation
UID:39a8da8ee6e06dc643681b34a948dba3@www.sanjuancollege.edu
END:VEVENT
END:VCALENDAR

