BEGIN:VCALENDAR
VERSION:2.0
BEGIN:VEVENT
CATEGORIES:Category,Community Events,Category,Student Events,Location,Henderson Performance Hall,featured,Yes
DESCRIPTION:How is Marcello De Francisci? Marcello De Francisci has composed-produced music for an array of motion picture soundtrack scores including Michael Mann&rsquo;s ninety million dollar film &lsquo;Ferrari&rsquo; starring Adam Driver and Penelope Cruz. He recently composed the music for a film shot in Nepal titled &lsquo;Gunyo Cholo&rsquo; as his first official project as a resident of Albuquerque, New Mexico. This event is Free and open to the public!! Date November 16, 2024 Time 2:00 pm Location Henderson Performance Hall
DTSTAMP:20260423T062551
DTSTART:20241116T140000
DTEND:20241116T160000
LOCATION:Henderson Performance Hall
SUMMARY;LANGUAGE=en-us:Award-Winning Motion Picture Composer, Marcello De Francisci
UID:fb6b9fa00f3844c566fb741e65ad316c@www.sanjuancollege.edu
END:VEVENT
END:VCALENDAR

