BEGIN:VCALENDAR
VERSION:2.0
BEGIN:VEVENT
CATEGORIES:Category,Art Gallery,Category,Community Events,Category,Fine and Performing Arts,Category,Student Events,Location,Henderson Fine Arts Center Gallery,featured,Yes
DESCRIPTION:Join us at the opening reception for the San Juan College Fall Student Art Exhibit at the Henderson Fine Art Gallery.&nbsp; Celebrate the wonderful artwork of the SJC art students and instructors made during this Fall semester. Primarily featuring painting, photography, and ceramics, visitors can support the arts and the students by voting for their favorites or purchasing a piece to add to their collection. This is a biannual exhibit coordinated to highlight the skills that can be learned by taking classes with the SJC Fine Art Department.  Opening Reception Friday, November 1, 2024 4 - 6 p.m. The Gallery is open during the reception. Exhibit Dates and Times This exhibit will run from November 1 - December 6, 2024. Gallery Hours The Henderson Fine Arts Center Gallery is open from 10 a.m. to 5 p.m. Monday - Friday and during most events in the Henderson Performance Hall.&nbsp; 
DTSTAMP:20260423T092018
DTSTART:20241101T160000
DTEND:20241101T180000
LOCATION:Henderson Fine Arts Center Gallery
SUMMARY;LANGUAGE=en-us:Fall Student Art Show Opening Reception
UID:241ad02db5a9b32ced77b7dfbcc15d9e@www.sanjuancollege.edu
END:VEVENT
END:VCALENDAR

