BEGIN:VCALENDAR
VERSION:2.0
BEGIN:VEVENT
CATEGORIES:Category,Artists Series,Category,Fine and Performing Arts,Location,Henderson Fine Arts Center,featured,Yes
DESCRIPTION:THE LEGACY LIVES ON! Fortunately, her incredible musical legacy now lives on through the stunning talents of Gesenia and her Ronstadt Revue. Every Ronstadt Revue show, performed in painstaking detail in both English and Spanish, covers every musical genre of Ms. Ronstadt&rsquo;s 40+ year career. Their performance is so authentic that two of Linda Ronstadt&rsquo;s own band members are currently co-producing and featured on the upcoming Ronstadt Revue album and one of them, John Beland, appears with the band at selected shows across the country. Get your tickets now&nbsp;and&nbsp;enjoy reliving the legacy of the legendary Linda Ronstadt as lovingly presented by Gesenia and Ronstadt Revue &ndash; the closest you&rsquo;ll ever come to the sound of Linda Ronstadt! Date April 26, 2025 Time 7:00 p.m. Location Henderson Fine Arts Center Admissions  General Public: $25 Student: $10 SJC Employees: $15 Senior/Encore/Military: $20  Buy Tickets
DTSTAMP:20260423T092129
DTSTART:20250426T190000
DTEND:20250426T210000
LOCATION:Henderson Fine Arts Center
SUMMARY;LANGUAGE=en-us:Ronstadt Revue, featuring Gesenia
UID:b5737bec6e5cd1201c20c1b07d101cc3@www.sanjuancollege.edu
END:VEVENT
END:VCALENDAR

