BEGIN:VCALENDAR
VERSION:2.0
BEGIN:VEVENT
CATEGORIES:Category,Artists Series,Category,Community Events,Category,Student Events,Location,Henderson Fine Arts Center,featured,Yes
DESCRIPTION:Hailing from the Utah valley, Backhand is making waves through the alternative scene playing a seamless blend of garage rock and punk and roll.They&rsquo;ll be sure to have you on your feet and dancing the night away. Admissions  General Public: $10  Buy Tickets Date February 14, 2025 Time&nbsp; 7:00pm Location Henderson Fine Arts Center
DTSTAMP:20260423T062813
DTSTART:20250214T190000
DTEND:20250214T210000
LOCATION:Henderson Fine Arts Center
SUMMARY;LANGUAGE=en-us:Backhand
UID:eae54743691768576e7ebf4b69b4e08c@www.sanjuancollege.edu
END:VEVENT
END:VCALENDAR

