BEGIN:VCALENDAR
VERSION:2.0
BEGIN:VEVENT
CATEGORIES:Category,Community Events,Category,Native American Center,Category,Student Events,Location,Quality Center for Business, Rooms 5017 & 5020,featured,Yes
DESCRIPTION:Join us to make beaded-wrapped keychains. Free supplies are available while supplies last. This event is free and open to the public. Date 2:00 p.m. Time February 7, 2025 Location Quality Center for Business, Rooms 5017 &amp; 5020
DTSTAMP:20260423T062812
DTSTART:20250207T140000
DTEND:20250207T170000
LOCATION:Quality Center for Business, Rooms 5017 &amp; 5020
SUMMARY;LANGUAGE=en-us:Native American Beading Workshop
UID:3c76efc7ac06e576ff538cda250a9b6f@www.sanjuancollege.edu
END:VEVENT
END:VCALENDAR

