BEGIN:VCALENDAR
VERSION:2.0
BEGIN:VEVENT
CATEGORIES:Category,Employee Events,Location,Various Locations Available Across Campus
DESCRIPTION:As a Success Guide, you&rsquo;ll help guide our new and returning students to their classes, provide helpful directions, answer questions, and show them your SJC Pride! Your involvement will play a key role in ensuring that our students start the semester with confidence and excitement. How to Sign Up: We&rsquo;re offering flexible times throughout both days for you to participate. You can sign up for a time slot that works best for your schedule! When: Tuesday, January 21, 2025 and Wednesday, January 22, 2025 Time: 1 hour shifts from 7:00 AM &ndash; 6:00 PM Where:    Area 1 &ndash; Inside Student Center including Henderson Fine Arts, Library and Mary&rsquo;s Kitchen Area 2 &ndash; Bookstore, West Classroom Complex and Health Science Building Area 3 &ndash; HHPC Building and Zia Conference Room Area 4 &ndash; Clocktower, Central Classroom Complex Buildings and Courtyard Area 5 &ndash; Trades and Technology and Copper Top Buildings Area 6 &ndash; School of Energy    This is an exciting way to contribute to our community and make a lasting positive impact on our students' experiences. Let&rsquo;s show them the welcoming spirit that makes SJC such a special place! Thank you in advance for your time and enthusiasm. Together, we can make the Spring 2025 semester an unforgettable start for our students! Register to Volunteer by clicking here 
DTSTAMP:20260423T062740
DTSTART:20250121T070000
DTEND:20250121T180000
LOCATION:Various Locations Available Across Campus
SUMMARY;LANGUAGE=en-us:Sign up to be a Success Guide for Spring 2025 &ndash; Help Welcome Our Students!
UID:07e6bc265145e9bd1f6a4f1e183b5a93@www.sanjuancollege.edu
END:VEVENT
END:VCALENDAR

