BEGIN:VCALENDAR
VERSION:2.0
BEGIN:VEVENT
CATEGORIES:Category,Community Events,Category,Student Events,Location,Henderson Fine Arts 9000 Rooms,featured,Yes
DESCRIPTION:Dr. Lepre is seeking San Juan College students, along with those working on bachelor's and doctorate degrees, for local summer internship opportunities. During this session, Dr. Lepre will:  Present his cutting-edge research on the role of &nbsp;hematite in uranium contamination Discuss ways to engage with local communities Offer mentorship on impactful research projects Highlight grant-supported summer internships for students  Don't miss this chance to learn about groundbreaking research and potential opportunities to get involved this summer! If you have any questions, email Rekisha Yazzie at nativesoar@sanjuancollege.edu. This is a free event! Food and drinks will be provided. Date February 11, 2025 Time 5:00 p.m. - 7:00 p.m. Location Henderson Fine Arts 9000 Rooms For updates, follow San Juan College on Facebook: SJC Native SOAR.
DTSTAMP:20260423T062352
DTSTART:20250211T170000
DTEND:20250211T190000
LOCATION:Henderson Fine Arts 9000 Rooms
SUMMARY;LANGUAGE=en-us:Exploring Opportunities in Geology and Environmental Research on the Colorado Plateau
UID:b5cfb0fbc31867c4831c84882b2779f3@www.sanjuancollege.edu
END:VEVENT
END:VCALENDAR

