BEGIN:VCALENDAR
VERSION:2.0
BEGIN:VEVENT
CATEGORIES:Category,Community Events,Category,Native American Center,Category,Student Events,Location,Farmington Museum,featured,Yes
DESCRIPTION:The Farmington Museum has a large variety of exhibits that document the history of the city and its diversity of the area&rsquo;s cultures. This trip will highlight one of the world&rsquo;s most talented Navajo master weaver, Lucy Eugene Yabeny Whitehorse, in an exhibit called, Dine Bighaa: The Weavings of T&rsquo;iis Nazbas. Lunch and transportation will be provided. Date February 26, 2025 Time 10:30 a.m. - 12:30 p.m. Location San Juan College to the Farmington Museum Claim Your Seat Due to limited space, current students are invited and must sign-up by February 24. Please stop by the Native American Center, Room 1610, call (505) 566-3321, or email NAC@sanjuancollege.edu to reserve your seat!
DTSTAMP:20260423T061729
DTSTART:20250226T103000
DTEND:20250226T123000
LOCATION:Farmington Museum
SUMMARY;LANGUAGE=en-us:Farmington Museum Lunch &amp; Learn
UID:fdd31eca9cf80a0b716f0126b2e8ec4b@www.sanjuancollege.edu
END:VEVENT
END:VCALENDAR

