BEGIN:VCALENDAR
VERSION:2.0
BEGIN:VEVENT
CATEGORIES:Category,Student Events,Location,Carter Room in the Library,featured,Yes
DESCRIPTION:Samanthi Hewakapuge will share her recent experience of exploring Sri Lanka as a tourist in her own homeland.&nbsp; In addition to highlighting details of her trip, she'll discuss both the highlights and challenges of this beautiful island nation. Despite its small size in the Indian Ocean, Sri Lanka has a wealth of attractions to offer. With tourism on the rise, it has become a popular and affordable destination. This presentation will offer a fresh perspective on a country that's often less known to American travelers. Date February 6, 2025 Time 2:00 p.m.-3:00 p.m. Location Carter Room in the Library
DTSTAMP:20260423T061728
DTSTART:20250206T140000
DTEND:20250206T150000
LOCATION:Carter Room in the Library
SUMMARY;LANGUAGE=en-us:Sri Lanka's Revitalized Tourism
UID:2915f3ad757eb55baa87e3bf3e53243e@www.sanjuancollege.edu
END:VEVENT
END:VCALENDAR

