BEGIN:VCALENDAR
VERSION:2.0
BEGIN:VEVENT
CATEGORIES:Category,Student Events,Location,Student Resource Center Room 1612,featured,Yes
DESCRIPTION:Come Learn More! WIOA is designed to help job seekers access employment, education, training, and support services to succeed in today&rsquo;s labor market, while also connecting employers with the skilled workers they need to thrive in a global economy. Date December 2, 2025 Time 11:00 a.m. - 1:00 p.m. Location Student Resource Center Room 1612
DTSTAMP:20260423T034039
DTSTART:20251202T110000
DTEND:20251202T130000
LOCATION:Student Resource Center Room 1612
SUMMARY;LANGUAGE=en-us:Community Resource Visit: Workforce Innovation &amp; Opportunity Act (WIOA)
UID:0ede7788d257b79adb41710dbec0002a@www.sanjuancollege.edu
END:VEVENT
END:VCALENDAR

