BEGIN:VCALENDAR
VERSION:2.0
BEGIN:VEVENT
CATEGORIES:Category,Student Events,Location,Student Resource Center Room 1612,featured,Yes
DESCRIPTION:Come Learn More! Workforce Innovation and Opportunity Act (WIOA) is a program that helps eligible youth and adults obtain work experience and/or go to school to become employed. Date August 6, 2025 Time 11:00 a.m. - 1:00 p.m. Location Student Resource Center Room 1612
DTSTAMP:20260423T092904
DTSTART:20251202T110000
DTEND:20251202T130000
LOCATION:Student Resource Center Room 1612
SUMMARY;LANGUAGE=en-us:Community Resource Visits: Workforce Innovation and Opportunity Act
UID:d578b2f0e0d0ea613cce1b12ec592c34@www.sanjuancollege.edu
END:VEVENT
END:VCALENDAR

