BEGIN:VCALENDAR
VERSION:2.0
BEGIN:VEVENT
CATEGORIES:Category,Student Events,Location,Student Resource Center Room 1612,featured,Yes
DESCRIPTION:The Shiprock Workforce Center will be providing information about their services for eligible persons based on need and funding availability. Services include: Short-term employment called Work Experience, classroom training/vocational training/GED, lodging/rent assistance, books/supplies assistance, meal expenses, and relocation or layoff assistance. Date June 3, 2025 Time 11:00 a.m. - 1:00 p.m. Location Student Resource Center Room 1612
DTSTAMP:20260423T104045
DTSTART:20250603T110000
DTEND:20250603T130000
LOCATION:Student Resource Center Room 1612
SUMMARY;LANGUAGE=en-us:Community Resource Visits
UID:c0585aa2837ae62e30a0fdb0fab4c3db@www.sanjuancollege.edu
END:VEVENT
END:VCALENDAR

