BEGIN:VCALENDAR
VERSION:2.0
BEGIN:VEVENT
CATEGORIES:Category,Student Events,Location,Student Resource Center Room 1612,featured,Yes
DESCRIPTION:Information on Early Head Start, Head Start, and Pre-K programs Date May 21, 2025 Time 11:00 a.m. - 1:00 p.m. Location Student Resource Center Room 1612
DTSTAMP:20260423T063018
DTSTART:20250521T110000
DTEND:20250521T130000
LOCATION:Student Resource Center Room 1612
SUMMARY;LANGUAGE=en-us:Community Resource Visits
UID:71477799e1b662bd9878287442b79bb9@www.sanjuancollege.edu
END:VEVENT
END:VCALENDAR

