BEGIN:VCALENDAR
VERSION:2.0
BEGIN:VEVENT
CATEGORIES:Category,Student Events,Location,Zoom,featured,Yes
DESCRIPTION:Sharpen Your Skills Whether you are looking to enhance your study skills or get a fresh start with different skills, this workshop will provide student with different study skills strategies to help you easy your studies during college classes. In this series, you'll learn how to:  Manage your time effectively Improve your study habits Ace your tests Prepare for finals with confidence  Dates, Times &amp; Topics February 3 @ 10:00 a.m. - Best Ways to Manage Time March 4 @ 11:30 a.m. - Strengthen Your Study Strategies April 7 @ 1:00 p.m. - From Stress to Success: Mastering Test Taking April 29 @ 4:00 p.m. - Crush Your Finals with Confidence: Tips to Improve Finals Week Location Zoom Passcode 161221 For more information, call 505-566-3378
DTSTAMP:20260423T103924
DTSTART:20260203T100000
DTEND:20260203T230000
LOCATION:Zoom
SUMMARY;LANGUAGE=en-us:College Success Skills Series
UID:02f2ff0ed9709982c4321babd490b5fb@www.sanjuancollege.edu
END:VEVENT
END:VCALENDAR

