BEGIN:VCALENDAR
VERSION:2.0
BEGIN:VEVENT
CATEGORIES:Category,Student Events,Location,Transfer Center,featured,Yes
DESCRIPTION:Join us to hear all that NTU has to offer! Discover how our Transfer Center offers:  Expert guidance Academic planning Credit transfer assistance Application tips.  Bring your questions and leave with confidence about your path to transfer! Date March 31, 2025 Time 10:00 a.m. - 1:00 p.m. Location Transfer Center
DTSTAMP:20260423T062621
DTSTART:20250331T100000
DTEND:20250331T130000
LOCATION:Transfer Center
SUMMARY;LANGUAGE=en-us:Meet with Navajo Technical University!
UID:afc110003b6ede9a8dd96fab95997f39@www.sanjuancollege.edu
END:VEVENT
END:VCALENDAR

