BEGIN:VCALENDAR
VERSION:2.0
BEGIN:VEVENT
CATEGORIES:Category,Student Events,Location,Student Center Building, Room 1606,featured,Yes
DESCRIPTION:Join us to hear all that GCU has to offer! If you're a San Juan College Student looking to grow your education and earn a bachelor's degree please come by. Discover how our Transfer Center offers:  Expert guidance Academic planning Credit transfer assistance Application tips.  Bring your questions and leave with confidence about your path to transfer! Date May 5, 2026 Time 9:00 a.m. - 2:00 p.m. Location Student Center Building, Room 1606
DTSTAMP:20260423T092817
DTSTART:20260505T090000
DTEND:20260505T140000
LOCATION:Student Center Building, Room 1606
SUMMARY;LANGUAGE=en-us:Meet with Grand Canyon University!
UID:dada9bbfe1a8f74e9de9fd5207f45d63@www.sanjuancollege.edu
END:VEVENT
END:VCALENDAR

