BEGIN:VCALENDAR
VERSION:2.0
BEGIN:VEVENT
CATEGORIES:Category,Student Events,Location,Transfer Center Located at The Student Center Building, Room 1606,featured,Yes
DESCRIPTION:Join us to hear all that NMHU has to offer! Discover how our Transfer Center offers:  Expert guidance Academic planning Credit transfer assistance Application tips.  Bring your questions and leave with confidence about your path to transfer! Date April 30, 2026&nbsp;May 6, 2026&nbsp;&nbsp; Time 10:00 a.m. - 1:00 p.m. Location Transfer Center Located at The Student Center Building, Room 1606
DTSTAMP:20260423T062433
DTSTART:20260402T100000
DTEND:20260402T130000
LOCATION:Transfer Center Located at The Student Center Building, Room 1606
SUMMARY;LANGUAGE=en-us:Meet with New Mexico Highlands University!
UID:c0ecca5242ff7f13a0c4c77343e759cf@www.sanjuancollege.edu
END:VEVENT
END:VCALENDAR

