BEGIN:VCALENDAR
VERSION:2.0
BEGIN:VEVENT
CATEGORIES:Category,Community Events,Category,Fine and Performing Arts,Category,Student Events,Location,Connie Gotsch Theatre,featured,Yes
DESCRIPTION:Welcome Back The well-loved Chautauqua series at San Juan College is back with Deborah Blanche as Laura Gilpin, Photographer.&nbsp;&nbsp; She packed her equipment in on horseback to photograph the source of the Rio Grande, did studio portraits for society matrons, directed pilots to &ldquo;fly low&rdquo; over Shiprock to capture the light and shadows from every possible angle. In this show meet Miss Gilpin as she was in the year 1954 &ndash; a confident, ebullient woman in her early 60&rsquo;s, as she narrates images from her first Lumiere color prints and her best-known book, The Enduring Navajo, and tells behind-the-camera stories. Reception with Deborah following the show.&nbsp; Admissions  General Public: FREE  Buy Tickets Date March 2, 2025 Time&nbsp; 2:00 p.m. Location Connie Gotsch Theatre
DTSTAMP:20260423T092320
DTSTART:20250302T140000
DTEND:20250302T150000
LOCATION:Connie Gotsch Theatre
SUMMARY;LANGUAGE=en-us:Deborah Blanche as Laura Gilpin
UID:a00f686ca3ec498f922183167496a93d@www.sanjuancollege.edu
END:VEVENT
END:VCALENDAR

