BEGIN:VCALENDAR
VERSION:2.0
BEGIN:VEVENT
CATEGORIES:Category,Dual Credit Info Sessions,Category,Student Events,Location,30th Street Education Center, Room 208
DESCRIPTION:Dual Credit Information Summer &amp; Fall 2025 Please bring your Parent/guardian email address and have your Social Security Number (if available). What To Expect  Walk through San Juan College's &nbsp;Career Pathways and Dual Credit classes Help students with the Dual Credit Enrollment process (Online Application and High School Admission Form) Discuss how to get registered for a Summer &amp; Fall 2025 college class  Dates April 28, 2025 Time 7:00 p.m. Location 30th Street Education Center, Room 208 For additional information please contact 505-566-3443.&nbsp;
DTSTAMP:20260423T103556
DTSTART:20250428T190000
DTEND:20250428T210000
LOCATION:30th Street Education Center, Room 208
SUMMARY;LANGUAGE=en-us:Dual Credit Information Session with Enrollment Help for Summer &amp; Fall 2025
UID:bd642a4c05613727307f95ec9437d56e@www.sanjuancollege.edu
END:VEVENT
END:VCALENDAR

