BEGIN:VCALENDAR
VERSION:2.0
BEGIN:VEVENT
CATEGORIES:Category,Dual Credit Info Sessions,Category,Student Events,Location,Zoom
DESCRIPTION:Dual Credit Information Summer &amp; Fall 2025 Attend with your parent/guardian and have their email address and your Social Security Number (if available). What To Expect  Walk through San Juan College's &nbsp;Career Pathways and Dual Credit classes Help students with the Dual Credit Enrollment process (Online Application and High School Admission Form) Discuss how to get registered for a Summer &amp; Fall 2025 college class  Dates &amp; Times April 10, 2025 @ 7:00 p.m. Location via Zoom For additional information please contact 505-566-3443.&nbsp;
DTSTAMP:20260423T062428
DTSTART:20250410T190000
DTEND:20250410T210000
LOCATION:Zoom
SUMMARY;LANGUAGE=en-us:Dual Credit Information Session with Enrollment Help for Summer &amp; Fall 2025 - Zoom
UID:c6691f0a8011905c366c694e488367da@www.sanjuancollege.edu
END:VEVENT
END:VCALENDAR

