BEGIN:VCALENDAR
VERSION:2.0
BEGIN:VEVENT
CATEGORIES:Category,Employee Events,Category,Student Events,Location,Henderson Fine Arts Center 9000 Rooms,featured,Yes
DESCRIPTION:Explore free resources, health screenings, fitness tips, and wellness activities tailored just for students and employees!&nbsp; Free health screening and vaccines - while they last  Blood glucose checks Blood pressure checks Flu and Covid vaccines Free STI (Sexually transmitted infection) testing  Student and Employee health insurance providers on hand to answer questions. The first 50&nbsp;students&nbsp;who visit the San Juan Regional Medical Center table will be given vouchers for free "My Labs" testing. Mini-Makeovers by SJC Cosmetology. Free Oral Canter Screenings by SJC Dental Hygiene. Ergonomics Setup &amp; Postural Alignment/Exercise Education by SJC PTA. Date March 3, 2026 Time 10:00 a.m. - 4:00 p.m. Location Henderson Fine Arts Center 9000 RoomsGiveaways and more-come check it out!
DTSTAMP:20260423T062254
DTSTART:20260303T100000
DTEND:20260303T160000
LOCATION:Henderson Fine Arts Center 9000 Rooms
SUMMARY;LANGUAGE=en-us:San Juan College Health and Wellness Fair
UID:275b11599db640da6120dd7e2a36f845@www.sanjuancollege.edu
END:VEVENT
END:VCALENDAR

