BEGIN:VCALENDAR
VERSION:2.0
BEGIN:VEVENT
CATEGORIES:Category,Community Events,Category,Student Events,Location,Zia Conference Room,featured,Yes
DESCRIPTION:The celebration will begin in Zia Conference Room, followed by a ribbon cutting and tour of the new Student Health Center.&nbsp; Enjoy refreshments, giveaways &amp; fun activities! Date February 19, 2025 Time 3:30 p.m. - 5:00 p.m. Location Zia Conference Room
DTSTAMP:20260423T062912
DTSTART:20250219T153000
DTEND:20250219T170000
LOCATION:Zia Conference Room
SUMMARY;LANGUAGE=en-us:San Juan College Student Health Center Grand Opening
UID:2a467638f90e3ac8bf4f31ef96b8016e@www.sanjuancollege.edu
END:VEVENT
END:VCALENDAR

