BEGIN:VCALENDAR
VERSION:2.0
BEGIN:VEVENT
CATEGORIES:Category,Community Events,Category,Student Events,Location,Henderson Fine Arts Center,featured,Yes
DESCRIPTION:Fight for Life Charity Event 80% of proceeds will be donated to San Juan County Family Crisis Center 208 E. Apache St. | Farmington | (505)325-3549 10% will go back to the club for future events Tickets:  Children $4 Students &amp; Senior Citizens $5 Adults $6  Date March 29, 2025 Time 5:30 p.m. Location Henderson Fine Arts Center
DTSTAMP:20260423T092255
DTSTART:20250329T173000
DTEND:20250329T193000
LOCATION:Henderson Fine Arts Center
SUMMARY;LANGUAGE=en-us:Alice in Wonderland Fantasy Hair Show 
UID:9f9da1e4bf22681e05dc1145975e63d6@www.sanjuancollege.edu
END:VEVENT
END:VCALENDAR

