BEGIN:VCALENDAR
VERSION:2.0
BEGIN:VEVENT
CATEGORIES:Category,Student Events,Location,Transfer Center
DESCRIPTION:Join us to hear all that NAU has to offer! Discover how our Transfer Center offers:  Expert guidance Academic planning Credit transfer assistance Application tips.  Bring your questions and leave with confidence about your path to transfer! Dates March 11, 2025 Time 9:00 a.m. - 2:00 p.m. Location Transfer Center
DTSTAMP:20260423T092735
DTSTART:20250311T090000
DTEND:20250311T140000
LOCATION:Transfer Center
SUMMARY;LANGUAGE=en-us:Meet with Northern Arizona University!
UID:355856707b1eca4117cef2fdf159b395@www.sanjuancollege.edu
END:VEVENT
END:VCALENDAR

