BEGIN:VCALENDAR
VERSION:2.0
BEGIN:VEVENT
CATEGORIES:Category,Student Events,Location,Transfer Center,featured,Yes
DESCRIPTION:Join us to hear all that New Mexico Tech has to offer! Discover how our Transfer Center offers:  Expert guidance Academic planning Credit transfer assistance Application tips.  Bring your questions and leave with confidence about your path to transfer! Date April 7, 2026 Time 9:00 a.m. - 2:00 p.m. Location Transfer Center, The Student Center Building, Room 1606
DTSTAMP:20260423T092659
DTSTART:20260407T090000
DTEND:20260407T150000
LOCATION:Transfer Center
SUMMARY;LANGUAGE=en-us:Meet with New Mexico Tech!
UID:11a98d9587cadb3fb4a9abeceb2579ce@www.sanjuancollege.edu
END:VEVENT
END:VCALENDAR

