BEGIN:VCALENDAR
VERSION:2.0
BEGIN:VEVENT
CATEGORIES:Category,Student Events,Location,Transfer Center or via Zoom,featured,Yes
DESCRIPTION:Join us to hear all that UNM has to offer! Discover how our Transfer Center offers:  Expert guidance Academic planning Credit transfer assistance Application tips.  Bring your questions and leave with confidence about your path to transfer! Date November 10, 2025 Time 10:00 a.m. - 12:00 p.m. Location Transfer Center or via Zoom
DTSTAMP:20260423T062428
DTSTART:20251110T100000
DTEND:20251110T120000
LOCATION:Transfer Center or via Zoom
SUMMARY;LANGUAGE=en-us:Meet with The University of New Mexico!
UID:dc913c357a5264089d52df0b0f68eb67@www.sanjuancollege.edu
END:VEVENT
END:VCALENDAR

