BEGIN:VCALENDAR
VERSION:2.0
BEGIN:VEVENT
CATEGORIES:Category,Student Events,Location,Transfer Center,featured,Yes
DESCRIPTION:Join us to hear all that UNM has to offer! Discover how our Transfer Center offers:  Expert guidance Academic planning Credit transfer assistance Application tips.  Bring your questions and leave with confidence about your path to transfer! Dates March 4, 2025 Times 8:00 a.m. - 5:00 p.m. Location Transfer Center
DTSTAMP:20260423T062913
DTSTART:20250304T080000
DTEND:20250304T170000
LOCATION:Transfer Center
SUMMARY;LANGUAGE=en-us:Meet with Colorado State University!
UID:cd3fcd8d705c8b00134867d03dd425e0@www.sanjuancollege.edu
END:VEVENT
END:VCALENDAR

