BEGIN:VCALENDAR
VERSION:2.0
BEGIN:VEVENT
CATEGORIES:Category,Student Events,Location,Online Submission
DESCRIPTION:Perspective(s) Art &amp; Literary Magazine exclusively showcases the creative work of San Juan College&rsquo;s students, staff, and faculty. The annual publication produced and edited by the Advanced Digital Projects class in the Digital Media Arts program, has become a cherished tradition and eagerly anticipated each spring. Only 64 entries or fewer will be selected for print! Submissions Now Open!  SUBMISSIONS DEADLINE: FRIDAY, MARCH 14, 2025 Submission must use the naming format on the submission form and each work must be titled.&nbsp; Up to five original entries may be submitted. All work must be the creator&rsquo;s own, provided in electronic format, and must follow the formatting guidelines and be submitted in Microsoft Word or PDF format (PDF text must be copyable):  Poetry, Short Fiction, essays with a maximum of 800 words. Art &amp; Photography submissions should be in a JPEG format with a maximum size of 9 inches wide at 300 dpi for a high-quality print.  Perspective(s) Magazine Submission Form&nbsp; Review &amp; Selection Timeline  March 14 Submission deadline. March 24 Judging and editing begin. April &ndash; Accepted submissions &nbsp;are notified via email. May 14 &ndash; Release party! &nbsp; Published contributors receive a copy of the magazine and a chance to connect with fellow &nbsp;writers and artists.  For questions email rennerl@sanjuancollege.edu for further inquires, contact Luke Renner at (05) 566-3792
DTSTAMP:20260423T062353
DTSTART:20250214T151000
DTEND:20250314T170000
LOCATION:Online Submission
SUMMARY;LANGUAGE=en-us:Perspective(s) Magazine Submission Deadline
UID:bfd040ba37c5a4f461b61726f29eb35e@www.sanjuancollege.edu
END:VEVENT
END:VCALENDAR

