BEGIN:VCALENDAR
VERSION:2.0
BEGIN:VEVENT
CATEGORIES:Category,Community Events,Category,Employee Events,Category,Student Events,Location,Quality Center for Business,featured,Yes
DESCRIPTION:Hang out with other fiber arts/sewing creators, bring your own projects, or start a new one at The Big Idea Makerspace. Cost: FREE with a Makerspace Membership Must be 12 or older. If under 18, bring a parent or guardian. Dates &amp; Times March 1, 2025 @ 9:00 am - 11:00 amApril 5, 2025 @ 9:00 am - 11:00 amMay 3, 2025 @ 9:00 am - 11:00 amJune 7, 2025 @ 9:00 am - 11:00 am Location The Big Idea Makerspace - Quality Center for Business
DTSTAMP:20260423T092341
DTSTART:20250301T090000
DTEND:20250301T110000
LOCATION:Quality Center for Business
SUMMARY;LANGUAGE=en-us:Fiber Arts Meetup
UID:9d8d69686d733ca0f5f777aad3d3d6ba@www.sanjuancollege.edu
END:VEVENT
END:VCALENDAR

