BEGIN:VCALENDAR
VERSION:2.0
BEGIN:VEVENT
CATEGORIES:Category,Student Events,Location,Tutoring Center Room 1611,featured,Yes
DESCRIPTION:Get Help With  Brainstorming Presentation Planning and Design Style, Spelling, and Grammar Public Speaking and Communication  Refine your presentation and gain valuable feedback for every step, from initial concepts to mock presentations before the big day.&nbsp; Drop in anytime during workshop hours or open hours to get specific help with your student showcase presentation. Visit the Tutoring Center portal and find the resources you need.
DTSTAMP:20260423T062029
DTSTART:20250402T150000
DTEND:20250402T180000
LOCATION:Tutoring Center Room 1611
SUMMARY;LANGUAGE=en-us:Preparing for the Spring 2025 Student Showcase?
UID:f085340dcd3d9d5964a39276f6f76d87@www.sanjuancollege.edu
END:VEVENT
END:VCALENDAR

