BEGIN:VCALENDAR
VERSION:2.0
BEGIN:VEVENT
CATEGORIES:Category,Community Events,Category,Employee Events,Category,Student Events,Location,Room 1614 and Sun's Lounge,featured,Yes
DESCRIPTION:Join us as we celebrate the roll-out of SJC's Trailblaze Cupboard!&nbsp; Hors d'Oeuvres will be served. Date March 12, 2025 Time 11:00 a.m. - 12:30 p.m. Location Room 1614 and Sun's Lounge
DTSTAMP:20260423T062238
DTSTART:20250312T110100
DTEND:20250312T123000
LOCATION:Room 1614 and Sun's Lounge
SUMMARY;LANGUAGE=en-us:Trailblaze Cupboard Grand Opening!
UID:80bff949ad981e49bcb0d551e1f1ecfc@www.sanjuancollege.edu
END:VEVENT
END:VCALENDAR

