BEGIN:VCALENDAR
VERSION:2.0
BEGIN:VEVENT
CATEGORIES:Category,Community Events,Category,Student Events,Location,Room 1925 & Zoom,featured,Yes
DESCRIPTION:Righting the Past Wrongs Presentation By Paul Reed - New Mexico State Director and Preservation Archaeologist, Archaeology Southwest. Paul will discuss the role of archaeology and how we can collaborate with indigenous tribes to form responsible future relationships.&nbsp; Hw will also discuss how we can right the wrongs of the past and move forward ethically and collaboratively, including the new requirements of NAGPRA (Native American Graves Protection and Repatriation Act). Event is free and open to all! Date April 3, 2025 Time 3:00 p.m. - 5:00 p.m. Location Room 1925 &amp; Zoom For additional information, contact cooperan@sanjuancollege.edu. Thank you to NMSU, Bridges to Baccalaureate, and Dr. David Wesch for making this event possible.&nbsp;
DTSTAMP:20260423T092017
DTSTART:20250403T150000
DTEND:20250403T170000
LOCATION:Room 1925 &amp; Zoom
SUMMARY;LANGUAGE=en-us:Responsible Future Collaboration with Indigenous Tribes
UID:4d3537922733684755f8755a89bdcf92@www.sanjuancollege.edu
END:VEVENT
END:VCALENDAR

