BEGIN:VCALENDAR
VERSION:2.0
BEGIN:VEVENT
CATEGORIES:Category,Global Studies,Category,Student Events,Location,West Classroom Complex Room 1814,featured,Yes
DESCRIPTION:Understanding the Geopolitics of the Weak Giant Join Dr. Jean-Paul Konda as he explores the three major factors that fuel the Congolese silent wars, which have claimed over 15 million lives. Discover how internal struggles, the legacy of the Rwandan genocide, and global competition for mineral resources have driven years of unrest in this resource-rich nation. Date April 17, 2025 Time 2:30 - 3:45 p.m. Location West Classroom Complex Room 1814
DTSTAMP:20260423T123104
DTSTART:20250417T143000
DTEND:20250417T154500
LOCATION:West Classroom Complex Room 1814
SUMMARY;LANGUAGE=en-us:The Democratic Republic of the Congo
UID:a56655c53f9732c7ed07ef79d4941c2d@www.sanjuancollege.edu
END:VEVENT
END:VCALENDAR

