BEGIN:VCALENDAR
VERSION:2.0
BEGIN:VEVENT
CATEGORIES:Category,Community Events,Category,Employee Events,Category,Student Events,Location,Zia Room (by HHPC),featured,Yes
DESCRIPTION:25 Years Stronger: Looking Back, Moving Forward Presentation about forensic nursing and how Sexual Assault Nurse Examiners (SANE Nurses) and Sexual Assault Services impact our community. Presented by April Stovall and Sexual Assault Services of Northwest New Mexico. Sponsored by the Student Nurses Association Date April 1, 2026 Time 2:00 - 3:00 p.m. Location Zia Room (by HHPC) For more information, email Sara Avila, avilas@sanjuancollege.edu or call (505) 566-3225
DTSTAMP:20260423T092816
DTSTART:20260401T140000
DTEND:20260401T150000
LOCATION:Zia Room (by HHPC)
SUMMARY;LANGUAGE=en-us:A Look at Sexual Assault and Forensic Nursing in San Juan County
UID:c137dbff18a6b0368291fbc4c78b0a10@www.sanjuancollege.edu
END:VEVENT
END:VCALENDAR

