BEGIN:VCALENDAR
VERSION:2.0
BEGIN:VEVENT
CATEGORIES:Category,Community Events,Category,Employee Events,Category,Student Events,Location,30th Street Education Center, ENLACE Room 206,featured,Yes
DESCRIPTION:25 Years Stronger: Looking Back, Moving Forward Presentation about sexual assault services and domestic violence supports for the Spanish-Speaking Community. The presentation will be given in English with interpretation available as needed. Presented by Sexual Assault Services of Northwest New Mexico and Family Crisis Center.&nbsp; Sponsored by: Harencia Latina Center/ENLACE Date April 3, 2026 Time 10:00 a.m. - 11:00 a.m. Location 30th Street Education Center, ENLACE Room 206 For more information, email Arely Caro, caroa@sanjuancollege.edu or call (505) 566-3873.
DTSTAMP:20260423T150034
DTSTART:20260403T100000
DTEND:20260403T110000
LOCATION:30th Street Education Center, ENLACE Room 206
SUMMARY;LANGUAGE=en-us:Sexual Assault Awareness Presentation for the Spanish-Speaking Community
UID:2b47d8fa51ae108354399c17cb6fd198@www.sanjuancollege.edu
END:VEVENT
END:VCALENDAR

